Package: RankProd Version: 3.34.0 Command: /home/biocbuild/R/R/bin/R CMD build --keep-empty-dirs --no-resave-data RankProd StartedAt: 2025-10-14 03:50:03 -0000 (Tue, 14 Oct 2025) EndedAt: 2025-10-14 03:50:21 -0000 (Tue, 14 Oct 2025) EllapsedTime: 18.0 seconds RetCode: 0 Status: OK PackageFile: RankProd_3.34.0.tar.gz PackageFileSize: 768.8 KiB