Package: RaggedExperiment Version: 1.32.2 Command: /home/biocbuild/R/R/bin/R CMD build --keep-empty-dirs --no-resave-data RaggedExperiment StartedAt: 2025-10-14 03:48:49 -0000 (Tue, 14 Oct 2025) EndedAt: 2025-10-14 03:49:40 -0000 (Tue, 14 Oct 2025) EllapsedTime: 51.0 seconds RetCode: 0 Status: OK PackageFile: RaggedExperiment_1.32.2.tar.gz PackageFileSize: 801.7 KiB