Package: RUVnormalize Version: 1.42.0 Command: /home/biocbuild/bbs-3.21-bioc/R/bin/R CMD build --keep-empty-dirs --no-resave-data RUVnormalize StartedAt: 2025-10-15 19:37:27 -0400 (Wed, 15 Oct 2025) EndedAt: 2025-10-15 19:37:41 -0400 (Wed, 15 Oct 2025) EllapsedTime: 14.0 seconds RetCode: 0 Status: OK PackageFile: RUVnormalize_1.42.0.tar.gz PackageFileSize: 191.2 KiB