Package: RUVnormalize Version: 1.42.0 Command: /Library/Frameworks/R.framework/Resources/bin/R CMD INSTALL RUVnormalize StartedAt: 2025-10-13 15:26:57 -0400 (Mon, 13 Oct 2025) EndedAt: 2025-10-13 15:27:15 -0400 (Mon, 13 Oct 2025) EllapsedTime: 17.3 seconds RetCode: 0 Status: OK