Package: RUVnormalize Version: 1.42.0 Command: /Library/Frameworks/R.framework/Resources/bin/R CMD build --keep-empty-dirs --no-resave-data RUVnormalize StartedAt: 2025-10-13 22:12:29 -0400 (Mon, 13 Oct 2025) EndedAt: 2025-10-13 22:13:04 -0400 (Mon, 13 Oct 2025) EllapsedTime: 35.3 seconds RetCode: 0 Status: OK PackageFile: RUVnormalize_1.42.0.tar.gz PackageFileSize: 190.2 KiB