Package: RUVnormalize Version: 1.42.0 Command: rm -rf RUVnormalize.buildbin-libdir && mkdir RUVnormalize.buildbin-libdir && /Users/biocbuild/BBS/utils/build-universal.sh RUVnormalize_1.42.0.tar.gz /Library/Frameworks/R.framework/Resources/bin/R RUVnormalize.buildbin-libdir StartedAt: 2025-10-14 14:39:10 -0400 (Tue, 14 Oct 2025) EndedAt: 2025-10-14 14:39:20 -0400 (Tue, 14 Oct 2025) EllapsedTime: 9.7 seconds RetCode: 0 Status: OK PackageFile: RUVnormalize_1.42.0.tgz PackageFileSize: 221.2 KiB