Package: RUVnormalize Version: 1.42.0 Command: /home/biocbuild/R/R/bin/R CMD INSTALL RUVnormalize StartedAt: 2025-10-13 20:26:24 -0000 (Mon, 13 Oct 2025) EndedAt: 2025-10-13 20:26:29 -0000 (Mon, 13 Oct 2025) EllapsedTime: 4.5 seconds RetCode: 0 Status: OK