Package: RUVcorr Version: 1.40.0 Command: /home/biocbuild/bbs-3.21-bioc/R/bin/R CMD INSTALL RUVcorr StartedAt: 2025-10-15 15:12:02 -0400 (Wed, 15 Oct 2025) EndedAt: 2025-10-15 15:12:06 -0400 (Wed, 15 Oct 2025) EllapsedTime: 4.5 seconds RetCode: 0 Status: OK