Package: RUVcorr Version: 1.40.0 Maintainer: Saskia Freytag MaintainerEmail: saskia.freytag at perkins.uwa.edu.au git_url: https://git.bioconductor.org/packages/RUVcorr git_branch: RELEASE_3_21 git_last_commit: a8b9e53 git_last_commit_date: 2025-04-15 10:50:04 -0400 (Tue, 15 Apr 2025)