Package: RTopper Version: 1.54.0 Command: /home/biocbuild/R/R/bin/R CMD INSTALL RTopper StartedAt: 2025-10-13 20:24:59 -0000 (Mon, 13 Oct 2025) EndedAt: 2025-10-13 20:25:09 -0000 (Mon, 13 Oct 2025) EllapsedTime: 9.8 seconds RetCode: 0 Status: OK