Package: RTopper Version: 1.54.0 Command: /home/biocbuild/R/R/bin/R CMD build --keep-empty-dirs --no-resave-data RTopper StartedAt: 2025-10-14 04:14:38 -0000 (Tue, 14 Oct 2025) EndedAt: 2025-10-14 04:15:56 -0000 (Tue, 14 Oct 2025) EllapsedTime: 78.0 seconds RetCode: 0 Status: OK PackageFile: RTopper_1.54.0.tar.gz PackageFileSize: 1.343 MiB