Package: RTCGAToolbox Version: 2.38.0 Command: /home/biocbuild/bbs-3.21-bioc/R/bin/R CMD build --keep-empty-dirs --no-resave-data RTCGAToolbox StartedAt: 2025-10-15 19:36:00 -0400 (Wed, 15 Oct 2025) EndedAt: 2025-10-15 19:36:42 -0400 (Wed, 15 Oct 2025) EllapsedTime: 42.0 seconds RetCode: 0 Status: OK PackageFile: RTCGAToolbox_2.38.0.tar.gz PackageFileSize: 2.33 MiB