Package: RTCGAToolbox Version: 2.38.0 Command: rm -rf RTCGAToolbox.buildbin-libdir && mkdir RTCGAToolbox.buildbin-libdir && /Users/biocbuild/BBS/utils/build-universal.sh RTCGAToolbox_2.38.0.tar.gz /Library/Frameworks/R.framework/Resources/bin/R RTCGAToolbox.buildbin-libdir StartedAt: 2025-10-14 14:38:33 -0400 (Tue, 14 Oct 2025) EndedAt: 2025-10-14 14:39:47 -0400 (Tue, 14 Oct 2025) EllapsedTime: 74.8 seconds RetCode: 0 Status: OK PackageFile: RTCGAToolbox_2.38.0.tgz PackageFileSize: 629.7 KiB