Package: RTCGAToolbox Version: 2.38.0 Command: /home/biocbuild/R/R/bin/R CMD build --keep-empty-dirs --no-resave-data RTCGAToolbox StartedAt: 2025-10-14 04:13:52 -0000 (Tue, 14 Oct 2025) EndedAt: 2025-10-14 04:15:00 -0000 (Tue, 14 Oct 2025) EllapsedTime: 68.0 seconds RetCode: 0 Status: OK PackageFile: RTCGAToolbox_2.38.0.tar.gz PackageFileSize: 2.353 MiB