Package: RTCGAToolbox Version: 2.38.0 Command: /Library/Frameworks/R.framework/Resources/bin/R CMD INSTALL RTCGAToolbox StartedAt: 2025-10-13 17:25:54 -0400 (Mon, 13 Oct 2025) EndedAt: 2025-10-13 17:26:23 -0400 (Mon, 13 Oct 2025) EllapsedTime: 29.1 seconds RetCode: 0 Status: OK