Package: RTCGAToolbox Version: 2.38.0 Command: /Library/Frameworks/R.framework/Resources/bin/R CMD build --keep-empty-dirs --no-resave-data RTCGAToolbox StartedAt: 2025-10-14 08:14:40 -0400 (Tue, 14 Oct 2025) EndedAt: 2025-10-14 08:15:33 -0400 (Tue, 14 Oct 2025) EllapsedTime: 53.8 seconds RetCode: 0 Status: OK PackageFile: RTCGAToolbox_2.38.0.tar.gz PackageFileSize: 2.33 MiB