Package: RTCGA Version: 1.38.0 Command: /home/biocbuild/bbs-3.21-bioc/R/bin/R CMD build --keep-empty-dirs --no-resave-data RTCGA StartedAt: 2025-10-15 19:35:56 -0400 (Wed, 15 Oct 2025) EndedAt: 2025-10-15 19:36:10 -0400 (Wed, 15 Oct 2025) EllapsedTime: 14.0 seconds RetCode: 0 Status: OK PackageFile: RTCGA_1.38.0.tar.gz PackageFileSize: 2.437 MiB