Package: RTCGA Version: 1.38.0 Command: /Library/Frameworks/R.framework/Resources/bin/R CMD build --keep-empty-dirs --no-resave-data RTCGA StartedAt: 2025-10-13 22:10:54 -0400 (Mon, 13 Oct 2025) EndedAt: 2025-10-13 22:11:26 -0400 (Mon, 13 Oct 2025) EllapsedTime: 32.8 seconds RetCode: 0 Status: OK PackageFile: RTCGA_1.38.0.tar.gz PackageFileSize: 2.437 MiB