Package: RTCGA Version: 1.38.0 Command: /home/biocbuild/R/R/bin/R CMD build --keep-empty-dirs --no-resave-data RTCGA StartedAt: 2025-10-14 04:13:49 -0000 (Tue, 14 Oct 2025) EndedAt: 2025-10-14 04:14:10 -0000 (Tue, 14 Oct 2025) EllapsedTime: 21.0 seconds RetCode: 0 Status: OK PackageFile: RTCGA_1.38.0.tar.gz PackageFileSize: 2.5 MiB