Package: RTCGA Version: 1.38.0 Command: /Library/Frameworks/R.framework/Resources/bin/R CMD build --keep-empty-dirs --no-resave-data RTCGA StartedAt: 2025-10-14 08:14:25 -0400 (Tue, 14 Oct 2025) EndedAt: 2025-10-14 08:14:44 -0400 (Tue, 14 Oct 2025) EllapsedTime: 19.1 seconds RetCode: 0 Status: OK PackageFile: RTCGA_1.38.0.tar.gz PackageFileSize: 2.437 MiB