Package: RTCA Version: 1.60.0 Command: /Library/Frameworks/R.framework/Resources/bin/R CMD INSTALL RTCA StartedAt: 2025-10-13 15:34:00 -0400 (Mon, 13 Oct 2025) EndedAt: 2025-10-13 15:34:05 -0400 (Mon, 13 Oct 2025) EllapsedTime: 5.5 seconds RetCode: 0 Status: OK