Package: RTCA Version: 1.60.0 Command: /Library/Frameworks/R.framework/Resources/bin/R CMD build --keep-empty-dirs --no-resave-data RTCA StartedAt: 2025-10-14 08:14:19 -0400 (Tue, 14 Oct 2025) EndedAt: 2025-10-14 08:14:40 -0400 (Tue, 14 Oct 2025) EllapsedTime: 20.3 seconds RetCode: 0 Status: OK PackageFile: RTCA_1.60.0.tar.gz PackageFileSize: 335.1 KiB