Package: RProtoBufLib Version: 2.20.0 Command: /home/biocbuild/bbs-3.21-bioc/R/bin/R CMD INSTALL RProtoBufLib StartedAt: 2025-10-15 15:02:22 -0400 (Wed, 15 Oct 2025) EndedAt: 2025-10-15 15:07:12 -0400 (Wed, 15 Oct 2025) EllapsedTime: 290.6 seconds RetCode: 0 Status: OK