Package: RProtoBufLib Version: 2.20.0 Command: /home/biocbuild/bbs-3.21-bioc/R/bin/R CMD build --keep-empty-dirs --no-resave-data RProtoBufLib StartedAt: 2025-10-15 19:34:53 -0400 (Wed, 15 Oct 2025) EndedAt: 2025-10-15 19:39:29 -0400 (Wed, 15 Oct 2025) EllapsedTime: 276.3 seconds RetCode: 0 Status: OK PackageFile: RProtoBufLib_2.20.0.tar.gz PackageFileSize: 2.84 MiB