Package: RProtoBufLib Version: 2.20.0 Command: /Library/Frameworks/R.framework/Resources/bin/R CMD build --keep-empty-dirs --no-resave-data RProtoBufLib StartedAt: 2025-10-13 22:08:24 -0400 (Mon, 13 Oct 2025) EndedAt: 2025-10-13 22:18:17 -0400 (Mon, 13 Oct 2025) EllapsedTime: 593.5 seconds RetCode: 0 Status: OK PackageFile: RProtoBufLib_2.20.0.tar.gz PackageFileSize: 2.786 MiB