Package: RProtoBufLib Version: 2.20.0 Command: /home/biocbuild/R/R/bin/R CMD INSTALL RProtoBufLib StartedAt: 2025-10-13 20:13:08 -0000 (Mon, 13 Oct 2025) EndedAt: 2025-10-13 20:20:08 -0000 (Mon, 13 Oct 2025) EllapsedTime: 420.8 seconds RetCode: 0 Status: OK