Package: RProtoBufLib Version: 2.20.0 Command: /home/biocbuild/R/R/bin/R CMD build --keep-empty-dirs --no-resave-data RProtoBufLib StartedAt: 2025-10-14 04:12:19 -0000 (Tue, 14 Oct 2025) EndedAt: 2025-10-14 04:19:18 -0000 (Tue, 14 Oct 2025) EllapsedTime: 419.2 seconds RetCode: 0 Status: OK PackageFile: RProtoBufLib_2.20.0.tar.gz PackageFileSize: 2.898 MiB