Package: RProtoBufLib Version: 2.20.0 Command: /Library/Frameworks/R.framework/Resources/bin/R CMD INSTALL RProtoBufLib StartedAt: 2025-10-13 15:09:03 -0400 (Mon, 13 Oct 2025) EndedAt: 2025-10-13 15:13:40 -0400 (Mon, 13 Oct 2025) EllapsedTime: 276.7 seconds RetCode: 0 Status: OK