Package: RProtoBufLib Version: 2.20.0 Command: /Library/Frameworks/R.framework/Resources/bin/R CMD build --keep-empty-dirs --no-resave-data RProtoBufLib StartedAt: 2025-10-14 08:09:23 -0400 (Tue, 14 Oct 2025) EndedAt: 2025-10-14 08:14:25 -0400 (Tue, 14 Oct 2025) EllapsedTime: 301.9 seconds RetCode: 0 Status: OK PackageFile: RProtoBufLib_2.20.0.tar.gz PackageFileSize: 2.798 MiB