Package: ROntoTools Version: 2.36.0 Command: /home/biocbuild/R/R/bin/R CMD INSTALL ROntoTools StartedAt: 2025-10-13 20:38:59 -0000 (Mon, 13 Oct 2025) EndedAt: 2025-10-13 20:39:16 -0000 (Mon, 13 Oct 2025) EllapsedTime: 17.3 seconds RetCode: 0 Status: OK