Package: ROntoTools Version: 2.36.0 Command: /home/biocbuild/R/R/bin/R CMD build --keep-empty-dirs --no-resave-data ROntoTools StartedAt: 2025-10-14 04:11:35 -0000 (Tue, 14 Oct 2025) EndedAt: 2025-10-14 04:12:31 -0000 (Tue, 14 Oct 2025) EllapsedTime: 56.0 seconds RetCode: 0 Status: OK PackageFile: ROntoTools_2.36.0.tar.gz PackageFileSize: 1.476 MiB