Package: ROSeq Version: 1.20.0 Command: /home/biocbuild/bbs-3.21-bioc/R/bin/R CMD build --keep-empty-dirs --no-resave-data ROSeq StartedAt: 2025-10-15 19:34:42 -0400 (Wed, 15 Oct 2025) EndedAt: 2025-10-15 19:38:16 -0400 (Wed, 15 Oct 2025) EllapsedTime: 214.2 seconds RetCode: 0 Status: OK PackageFile: ROSeq_1.20.0.tar.gz PackageFileSize: 4.19 MiB