Package: ROSeq Version: 1.20.0 Command: /home/biocbuild/R/R/bin/R CMD build --keep-empty-dirs --no-resave-data ROSeq StartedAt: 2025-10-14 04:11:42 -0000 (Tue, 14 Oct 2025) EndedAt: 2025-10-14 04:17:37 -0000 (Tue, 14 Oct 2025) EllapsedTime: 355.2 seconds RetCode: 0 Status: OK PackageFile: ROSeq_1.20.0.tar.gz PackageFileSize: 4.192 MiB