Package: ROSeq Version: 1.20.0 Command: rm -rf ROSeq.buildbin-libdir && mkdir ROSeq.buildbin-libdir && /Users/biocbuild/BBS/utils/build-universal.sh ROSeq_1.20.0.tar.gz /Library/Frameworks/R.framework/Resources/bin/R ROSeq.buildbin-libdir StartedAt: 2025-04-21 22:49:56 -0400 (Mon, 21 Apr 2025) EndedAt: 2025-04-21 22:50:00 -0400 (Mon, 21 Apr 2025) EllapsedTime: 4.1 seconds RetCode: 0 Status: OK PackageFile: ROSeq_1.20.0.tgz PackageFileSize: 7.321 MiB