Package: ROSeq Version: 1.20.0 Command: /Library/Frameworks/R.framework/Resources/bin/R CMD INSTALL ROSeq StartedAt: 2025-10-13 15:11:42 -0400 (Mon, 13 Oct 2025) EndedAt: 2025-10-13 15:11:54 -0400 (Mon, 13 Oct 2025) EllapsedTime: 12.8 seconds RetCode: 0 Status: OK