Package: ROSeq Version: 1.20.0 Command: /Library/Frameworks/R.framework/Resources/bin/R CMD build --keep-empty-dirs --no-resave-data ROSeq StartedAt: 2025-10-14 08:08:39 -0400 (Tue, 14 Oct 2025) EndedAt: 2025-10-14 08:13:41 -0400 (Tue, 14 Oct 2025) EllapsedTime: 302.6 seconds RetCode: 0 Status: OK PackageFile: ROSeq_1.20.0.tar.gz PackageFileSize: 4.191 MiB