Package: ROSeq Version: 1.20.0 Command: rm -rf ROSeq.buildbin-libdir && mkdir ROSeq.buildbin-libdir && /Users/biocbuild/BBS/utils/build-universal.sh ROSeq_1.20.0.tar.gz /Library/Frameworks/R.framework/Resources/bin/R ROSeq.buildbin-libdir StartedAt: 2025-10-15 20:13:57 -0400 (Wed, 15 Oct 2025) EndedAt: 2025-10-15 20:14:13 -0400 (Wed, 15 Oct 2025) EllapsedTime: 16.0 seconds RetCode: 0 Status: OK PackageFile: ROSeq_1.20.0.tgz PackageFileSize: 7.32 MiB