Package: ROCpAI Version: 1.20.0 Command: /home/biocbuild/bbs-3.21-bioc/R/bin/R CMD INSTALL ROCpAI StartedAt: 2025-10-15 15:21:58 -0400 (Wed, 15 Oct 2025) EndedAt: 2025-10-15 15:22:18 -0400 (Wed, 15 Oct 2025) EllapsedTime: 20.0 seconds RetCode: 0 Status: OK