Package: ROCpAI Version: 1.20.0 Command: /home/biocbuild/bbs-3.21-bioc/R/bin/R CMD build --keep-empty-dirs --no-resave-data ROCpAI StartedAt: 2025-10-15 19:34:15 -0400 (Wed, 15 Oct 2025) EndedAt: 2025-10-15 19:34:47 -0400 (Wed, 15 Oct 2025) EllapsedTime: 32.0 seconds RetCode: 0 Status: OK PackageFile: ROCpAI_1.20.0.tar.gz PackageFileSize: 407.7 KiB