Package: ROCpAI Version: 1.20.0 Command: /Library/Frameworks/R.framework/Resources/bin/R CMD INSTALL ROCpAI StartedAt: 2025-10-13 16:27:18 -0400 (Mon, 13 Oct 2025) EndedAt: 2025-10-13 16:27:41 -0400 (Mon, 13 Oct 2025) EllapsedTime: 24.0 seconds RetCode: 0 Status: OK