Package: ROCpAI Version: 1.20.0 Command: /Library/Frameworks/R.framework/Resources/bin/R CMD build --keep-empty-dirs --no-resave-data ROCpAI StartedAt: 2025-10-14 08:07:36 -0400 (Tue, 14 Oct 2025) EndedAt: 2025-10-14 08:08:18 -0400 (Tue, 14 Oct 2025) EllapsedTime: 41.6 seconds RetCode: 0 Status: OK PackageFile: ROCpAI_1.20.0.tar.gz PackageFileSize: 427 KiB