Package: ROCpAI Version: 1.20.0 Command: rm -rf ROCpAI.buildbin-libdir && mkdir ROCpAI.buildbin-libdir && /Users/biocbuild/BBS/utils/build-universal.sh ROCpAI_1.20.0.tar.gz /Library/Frameworks/R.framework/Resources/bin/R ROCpAI.buildbin-libdir StartedAt: 2025-10-15 20:13:35 -0400 (Wed, 15 Oct 2025) EndedAt: 2025-10-15 20:14:02 -0400 (Wed, 15 Oct 2025) EllapsedTime: 27.2 seconds RetCode: 0 Status: OK PackageFile: ROCpAI_1.20.0.tgz PackageFileSize: 465.3 KiB