Package: RNAmodR Version: 1.22.0 Command: /home/biocbuild/R/R/bin/R CMD INSTALL RNAmodR StartedAt: 2025-10-13 21:03:10 -0000 (Mon, 13 Oct 2025) EndedAt: 2025-10-13 21:04:55 -0000 (Mon, 13 Oct 2025) EllapsedTime: 104.9 seconds RetCode: 0 Status: OK