Package: RNAmodR Version: 1.22.0 Command: /home/biocbuild/R/R/bin/R CMD build --keep-empty-dirs --no-resave-data RNAmodR StartedAt: 2025-10-14 04:07:24 -0000 (Tue, 14 Oct 2025) EndedAt: 2025-10-14 04:12:21 -0000 (Tue, 14 Oct 2025) EllapsedTime: 297.2 seconds RetCode: 0 Status: OK PackageFile: RNAmodR_1.22.0.tar.gz PackageFileSize: 1.618 MiB