Package: RNAmodR Version: 1.22.0 Command: /Library/Frameworks/R.framework/Resources/bin/R CMD build --keep-empty-dirs --no-resave-data RNAmodR StartedAt: 2025-10-14 07:58:52 -0400 (Tue, 14 Oct 2025) EndedAt: 2025-10-14 08:02:53 -0400 (Tue, 14 Oct 2025) EllapsedTime: 240.4 seconds RetCode: 0 Status: OK PackageFile: RNAmodR_1.22.0.tar.gz PackageFileSize: 1.508 MiB