Package: RNAmodR Version: 1.22.0 Command: rm -rf RNAmodR.buildbin-libdir && mkdir RNAmodR.buildbin-libdir && /Users/biocbuild/BBS/utils/build-universal.sh RNAmodR_1.22.0.tar.gz /Library/Frameworks/R.framework/Resources/bin/R RNAmodR.buildbin-libdir StartedAt: 2025-10-15 20:11:55 -0400 (Wed, 15 Oct 2025) EndedAt: 2025-10-15 20:13:28 -0400 (Wed, 15 Oct 2025) EllapsedTime: 92.9 seconds RetCode: 0 Status: OK PackageFile: RNAmodR_1.22.0.tgz PackageFileSize: 2.975 MiB