Package: RNAmodR.RiboMethSeq Version: 1.22.0 Command: /home/biocbuild/bbs-3.21-bioc/R/bin/R CMD build --keep-empty-dirs --no-resave-data RNAmodR.RiboMethSeq StartedAt: 2025-10-15 19:32:23 -0400 (Wed, 15 Oct 2025) EndedAt: 2025-10-15 19:34:19 -0400 (Wed, 15 Oct 2025) EllapsedTime: 116.1 seconds RetCode: 0 Status: OK PackageFile: RNAmodR.RiboMethSeq_1.22.0.tar.gz PackageFileSize: 641.9 KiB