Package: RNAmodR.RiboMethSeq Version: 1.22.0 Command: /Library/Frameworks/R.framework/Resources/bin/R CMD check --install=check:RNAmodR.RiboMethSeq.install-out.txt --library=/Library/Frameworks/R.framework/Resources/library --no-vignettes --timings RNAmodR.RiboMethSeq_1.22.0.tar.gz StartedAt: 2025-10-14 09:21:34 -0400 (Tue, 14 Oct 2025) EndedAt: 2025-10-14 09:36:27 -0400 (Tue, 14 Oct 2025) EllapsedTime: 892.7 seconds RetCode: 0 Status: OK CheckDir: RNAmodR.RiboMethSeq.Rcheck Warnings: 0