Package: RNAmodR.RiboMethSeq Version: 1.22.0 Command: rm -rf RNAmodR.RiboMethSeq.buildbin-libdir && mkdir RNAmodR.RiboMethSeq.buildbin-libdir && /Users/biocbuild/BBS/utils/build-universal.sh RNAmodR.RiboMethSeq_1.22.0.tar.gz /Library/Frameworks/R.framework/Resources/bin/R RNAmodR.RiboMethSeq.buildbin-libdir StartedAt: 2025-10-14 14:36:06 -0400 (Tue, 14 Oct 2025) EndedAt: 2025-10-14 14:38:42 -0400 (Tue, 14 Oct 2025) EllapsedTime: 156.2 seconds RetCode: 0 Status: OK PackageFile: RNAmodR.RiboMethSeq_1.22.0.tgz PackageFileSize: 720.2 KiB