Package: RNAmodR.RiboMethSeq Version: 1.22.0 Command: /home/biocbuild/R/R/bin/R CMD INSTALL RNAmodR.RiboMethSeq StartedAt: 2025-10-13 21:04:57 -0000 (Mon, 13 Oct 2025) EndedAt: 2025-10-13 21:06:18 -0000 (Mon, 13 Oct 2025) EllapsedTime: 81.5 seconds RetCode: 0 Status: OK